BEGIN:VCALENDAR
VERSION:2.0
PRODID:SchoolNow
CALSCALE:GREGORIAN
BEGIN:VEVENT
UID:ba5bfa28-8509-11f0-8472-0e1334b9292f
DTSTAMP:20260421T102011Z
SUMMARY:D97 M.S. Orchestra Festival
URL;VALUE=URI:https://www.op97.org/brooks/calendar/8558647/d97-m-s-orchestr
 a-festival
DTSTART:20260528T000000Z
DTEND:20260528T020000Z
END:VEVENT
END:VCALENDAR
