BEGIN:VCALENDAR
VERSION:2.0
PRODID:SchoolNow
CALSCALE:GREGORIAN
BEGIN:VEVENT
UID:ba5bfbb8-8509-11f0-a37c-0e1334b9292f
DTSTAMP:20260421T102011Z
SUMMARY:BROOKS Band Concert
URL;VALUE=URI:https://www.op97.org/brooks/calendar/8558648/brooks-band-conc
 ert
DTSTART;VALUE=DATE:20260521
DTEND;VALUE=DATE:20260522
END:VEVENT
END:VCALENDAR
