BEGIN:VCALENDAR
VERSION:2.0
PRODID:SchoolNow
CALSCALE:GREGORIAN
BEGIN:VEVENT
UID:ba5bfd48-8509-11f0-83b7-0e1334b9292f
DTSTAMP:20260421T102011Z
SUMMARY:D97 Choral Festival
URL;VALUE=URI:https://www.op97.org/brooks/calendar/8558649/d97-choral-festi
 val
DTSTART:20260428T000000Z
DTEND:20260428T020000Z
END:VEVENT
END:VCALENDAR
