BEGIN:VCALENDAR
VERSION:2.0
PRODID:SchoolNow
CALSCALE:GREGORIAN
BEGIN:VEVENT
UID:b754d0d8-853c-11f0-abb5-0a58a9feac02
DTSTAMP:20260421T162511Z
SUMMARY:BROOKS Band Concert
URL;VALUE=URI:https://www.op97.org/brooks/calendar/8559788/brooks-band-conc
 ert
DTSTART:20260227T003000Z
DTEND:20260227T023000Z
END:VEVENT
END:VCALENDAR
