BEGIN:VCALENDAR
VERSION:2.0
PRODID:SchoolNow
CALSCALE:GREGORIAN
BEGIN:VEVENT
UID:b754d27c-853c-11f0-9f09-0a58a9feac02
DTSTAMP:20260421T102011Z
SUMMARY:Brooks Pep Band @ Good Life 5k
LOCATION:Oak Park and River Forest High School\, 201 N Scoville Ave\, Oak P
 ark\, IL 60302\, USA
URL;VALUE=URI:https://www.op97.org/brooks/calendar/8559789/brooks-pep-band-
 good-life-5k
DTSTART:20260426T130000Z
DTEND:20260426T160000Z
END:VEVENT
END:VCALENDAR
