BEGIN:VCALENDAR
VERSION:2.0
PRODID:SchoolNow
CALSCALE:GREGORIAN
BEGIN:VEVENT
UID:b754d39e-853c-11f0-b420-0a58a9feac02
DTSTAMP:20260421T102011Z
SUMMARY:Brooks Jazz Concert
URL;VALUE=URI:https://www.op97.org/brooks/calendar/8559790/brooks-jazz-conc
 ert
DTSTART:20260505T230000Z
DTEND:20260506T010000Z
END:VEVENT
END:VCALENDAR
