BEGIN:VCALENDAR
VERSION:2.0
PRODID:SchoolNow
CALSCALE:GREGORIAN
BEGIN:VEVENT
UID:8806dd36-8905-11f0-bcae-0a58a9feac02
DTSTAMP:20260421T102012Z
SUMMARY:Special Olympics Track Practice
URL;VALUE=URI:https://www.op97.org/brooks/calendar/8575756/special-olympics
 -track-practice
DTSTART:20260414T203000Z
DTEND:20260414T220000Z
END:VEVENT
END:VCALENDAR
