BEGIN:VCALENDAR
VERSION:2.0
PRODID:SchoolNow
CALSCALE:GREGORIAN
BEGIN:VEVENT
UID:8806e0c4-8905-11f0-ac28-0a58a9feac02
DTSTAMP:20260421T102012Z
SUMMARY:Special Olympics Track Practice
URL;VALUE=URI:https://www.op97.org/brooks/calendar/8575757/special-olympics
 -track-practice
DTSTART:20260421T203000Z
DTEND:20260421T220000Z
END:VEVENT
END:VCALENDAR
