BEGIN:VCALENDAR
VERSION:2.0
PRODID:SchoolNow
CALSCALE:GREGORIAN
BEGIN:VEVENT
UID:8806e1fa-8905-11f0-ae33-0a58a9feac02
DTSTAMP:20260421T102012Z
SUMMARY:Special Olympics Track Practice
URL;VALUE=URI:https://www.op97.org/brooks/calendar/8575758/special-olympics
 -track-practice
DTSTART:20260428T203000Z
DTEND:20260428T220000Z
END:VEVENT
END:VCALENDAR
