BEGIN:VCALENDAR
VERSION:2.0
PRODID:SchoolNow
CALSCALE:GREGORIAN
BEGIN:VEVENT
UID:8806e2f4-8905-11f0-af1b-0a58a9feac02
DTSTAMP:20260421T102012Z
SUMMARY:Special Olympics Track Practice
URL;VALUE=URI:https://www.op97.org/brooks/calendar/8575759/special-olympics
 -track-practice
DTSTART:20260505T203000Z
DTEND:20260505T220000Z
END:VEVENT
END:VCALENDAR
