BEGIN:VCALENDAR
VERSION:2.0
PRODID:SchoolNow
CALSCALE:GREGORIAN
BEGIN:VEVENT
UID:488fafe4-8dcd-11f0-8c31-02a71bbdc7bd
DTSTAMP:20260421T162511Z
SUMMARY:Art Club
LOCATION:D301
URL;VALUE=URI:https://www.op97.org/brooks/calendar/8602204/art-club
DTSTART:20260129T213000Z
DTEND:20260129T223000Z
END:VEVENT
END:VCALENDAR
