BEGIN:VCALENDAR
VERSION:2.0
PRODID:SchoolNow
CALSCALE:GREGORIAN
BEGIN:VEVENT
UID:488fb1b0-8dcd-11f0-a23b-02a71bbdc7bd
DTSTAMP:20260421T162511Z
SUMMARY:Art Club
LOCATION:D301
URL;VALUE=URI:https://www.op97.org/brooks/calendar/8602206/art-club
DTSTART:20260212T213000Z
DTEND:20260212T223000Z
END:VEVENT
END:VCALENDAR
