BEGIN:VCALENDAR
VERSION:2.0
PRODID:SchoolNow
CALSCALE:GREGORIAN
BEGIN:VEVENT
UID:488fb372-8dcd-11f0-be69-02a71bbdc7bd
DTSTAMP:20260421T162511Z
SUMMARY:Art Club
LOCATION:D301
URL;VALUE=URI:https://www.op97.org/brooks/calendar/8602208/art-club
DTSTART:20260226T213000Z
DTEND:20260226T223000Z
END:VEVENT
END:VCALENDAR
