BEGIN:VCALENDAR
VERSION:2.0
PRODID:SchoolNow
CALSCALE:GREGORIAN
BEGIN:VEVENT
UID:488fb458-8dcd-11f0-9d74-02a71bbdc7bd
DTSTAMP:20260421T102012Z
SUMMARY:Art Club
LOCATION:D301
URL;VALUE=URI:https://www.op97.org/brooks/calendar/8602209/art-club
DTSTART:20260305T213000Z
DTEND:20260305T223000Z
END:VEVENT
END:VCALENDAR
