BEGIN:VCALENDAR
VERSION:2.0
PRODID:SchoolNow
CALSCALE:GREGORIAN
BEGIN:VEVENT
UID:488fbbd8-8dcd-11f0-ae62-02a71bbdc7bd
DTSTAMP:20260421T102012Z
SUMMARY:Art Club
LOCATION:D301
URL;VALUE=URI:https://www.op97.org/brooks/calendar/8602212/art-club
DTSTART:20260326T203000Z
DTEND:20260326T213000Z
END:VEVENT
END:VCALENDAR
