BEGIN:VCALENDAR
VERSION:2.0
PRODID:SchoolNow
CALSCALE:GREGORIAN
BEGIN:VEVENT
UID:488fc074-8dcd-11f0-b987-02a71bbdc7bd
DTSTAMP:20260421T102012Z
SUMMARY:Art Club
LOCATION:D301
URL;VALUE=URI:https://www.op97.org/brooks/calendar/8602217/art-club
DTSTART:20260430T203000Z
DTEND:20260430T213000Z
END:VEVENT
END:VCALENDAR
