BEGIN:VCALENDAR
VERSION:2.0
PRODID:SchoolNow
CALSCALE:GREGORIAN
BEGIN:VEVENT
UID:4431ca6c-8e00-11f0-bd83-0e955f31df07
DTSTAMP:20260421T162511Z
SUMMARY:Best Buddies Officers
LOCATION:B105
URL;VALUE=URI:https://www.op97.org/brooks/calendar/8603378/best-buddies-off
 icers
DTSTART:20260107T213000Z
DTEND:20260107T223000Z
END:VEVENT
END:VCALENDAR
