BEGIN:VCALENDAR
VERSION:2.0
PRODID:SchoolNow
CALSCALE:GREGORIAN
BEGIN:VEVENT
UID:4431cb5c-8e00-11f0-954f-0e955f31df07
DTSTAMP:20260421T162511Z
SUMMARY:Best Buddies Officers
LOCATION:B105
URL;VALUE=URI:https://www.op97.org/brooks/calendar/8603379/best-buddies-off
 icers
DTSTART:20260121T213000Z
DTEND:20260121T223000Z
END:VEVENT
END:VCALENDAR
