BEGIN:VCALENDAR
VERSION:2.0
PRODID:SchoolNow
CALSCALE:GREGORIAN
BEGIN:VEVENT
UID:4431cd32-8e00-11f0-97d6-0e955f31df07
DTSTAMP:20260421T162511Z
SUMMARY:Best Buddies Officers
LOCATION:B105
URL;VALUE=URI:https://www.op97.org/brooks/calendar/8603380/best-buddies-off
 icers
DTSTART:20260204T213000Z
DTEND:20260204T223000Z
END:VEVENT
END:VCALENDAR
