BEGIN:VCALENDAR
VERSION:2.0
PRODID:SchoolNow
CALSCALE:GREGORIAN
BEGIN:VEVENT
UID:4431d0de-8e00-11f0-bd77-0e955f31df07
DTSTAMP:20260421T102011Z
SUMMARY:Best Buddies Officers
LOCATION:B105
URL;VALUE=URI:https://www.op97.org/brooks/calendar/8603384/best-buddies-off
 icers
DTSTART:20260415T203000Z
DTEND:20260415T213000Z
END:VEVENT
END:VCALENDAR
