BEGIN:VCALENDAR
VERSION:2.0
PRODID:SchoolNow
CALSCALE:GREGORIAN
BEGIN:VEVENT
UID:4431d1c4-8e00-11f0-b742-0e955f31df07
DTSTAMP:20260421T102011Z
SUMMARY:Best Buddies Officers
LOCATION:B105
URL;VALUE=URI:https://www.op97.org/brooks/calendar/8603385/best-buddies-off
 icers
DTSTART:20260429T203000Z
DTEND:20260429T213000Z
END:VEVENT
END:VCALENDAR
