BEGIN:VCALENDAR
VERSION:2.0
PRODID:SchoolNow
CALSCALE:GREGORIAN
BEGIN:VEVENT
UID:41ae2b80-8e66-11f0-a560-0a58a9feac02
DTSTAMP:20260421T162511Z
SUMMARY:Girl's Scout Troop (45930) Meeting
LOCATION:A126
URL;VALUE=URI:https://www.op97.org/brooks/calendar/8605343/girls-scout-troo
 p-45930-meeting
DTSTART:20260115T213000Z
DTEND:20260115T223000Z
END:VEVENT
END:VCALENDAR
