BEGIN:VCALENDAR
VERSION:2.0
PRODID:SchoolNow
CALSCALE:GREGORIAN
BEGIN:VEVENT
UID:41ae2e0a-8e66-11f0-8bb5-0a58a9feac02
DTSTAMP:20260421T102011Z
SUMMARY:Girl's Scout Troop (45930) Meeting
LOCATION:A126
URL;VALUE=URI:https://www.op97.org/brooks/calendar/8605346/girls-scout-troo
 p-45930-meeting
DTSTART:20260416T203000Z
DTEND:20260416T213000Z
END:VEVENT
END:VCALENDAR
