BEGIN:VCALENDAR
VERSION:2.0
PRODID:SchoolNow
CALSCALE:GREGORIAN
BEGIN:VEVENT
UID:41c2f628-8e66-11f0-ad50-0a58a9feac02
DTSTAMP:20260421T162511Z
SUMMARY:Drama Club  Meeting
LOCATION:C109
URL;VALUE=URI:https://www.op97.org/brooks/calendar/8605365/drama-club-meeti
 ng
DTSTART:20260115T213000Z
DTEND:20260115T223000Z
END:VEVENT
END:VCALENDAR
