BEGIN:VCALENDAR
VERSION:2.0
PRODID:SchoolNow
CALSCALE:GREGORIAN
BEGIN:VEVENT
UID:41c2f72c-8e66-11f0-9bd1-0a58a9feac02
DTSTAMP:20260421T162511Z
SUMMARY:Drama Club  Meeting
LOCATION:C109
URL;VALUE=URI:https://www.op97.org/brooks/calendar/8605366/drama-club-meeti
 ng
DTSTART:20260122T213000Z
DTEND:20260122T223000Z
END:VEVENT
END:VCALENDAR
