BEGIN:VCALENDAR
VERSION:2.0
PRODID:SchoolNow
CALSCALE:GREGORIAN
BEGIN:VEVENT
UID:41c2f9ca-8e66-11f0-a6ba-0a58a9feac02
DTSTAMP:20260421T162511Z
SUMMARY:Drama Club  Meeting
LOCATION:C109
URL;VALUE=URI:https://www.op97.org/brooks/calendar/8605369/drama-club-meeti
 ng
DTSTART:20260212T213000Z
DTEND:20260212T223000Z
END:VEVENT
END:VCALENDAR
