BEGIN:VCALENDAR
VERSION:2.0
PRODID:SchoolNow
CALSCALE:GREGORIAN
BEGIN:VEVENT
UID:41c2fab0-8e66-11f0-ad33-0a58a9feac02
DTSTAMP:20260421T162511Z
SUMMARY:Drama Club  Meeting
LOCATION:C109
URL;VALUE=URI:https://www.op97.org/brooks/calendar/8605370/drama-club-meeti
 ng
DTSTART:20260219T213000Z
DTEND:20260219T223000Z
END:VEVENT
END:VCALENDAR
