BEGIN:VCALENDAR
VERSION:2.0
PRODID:SchoolNow
CALSCALE:GREGORIAN
BEGIN:VEVENT
UID:41c301a4-8e66-11f0-8f9c-0a58a9feac02
DTSTAMP:20260421T102012Z
SUMMARY:Drama Club  Meeting
LOCATION:C109
URL;VALUE=URI:https://www.op97.org/brooks/calendar/8605378/drama-club-meeti
 ng
DTSTART:20260416T203000Z
DTEND:20260416T213000Z
END:VEVENT
END:VCALENDAR
