BEGIN:VCALENDAR
VERSION:2.0
PRODID:SchoolNow
CALSCALE:GREGORIAN
BEGIN:VEVENT
UID:3d53a94c-8e99-11f0-8957-0a58a9feac02
DTSTAMP:20260421T162511Z
SUMMARY:Cheerleading Practice & Meetings
LOCATION:Core Studio
URL;VALUE=URI:https://www.op97.org/brooks/calendar/8606471/cheerleading-pra
 ctice-meetings
DTSTART:20260113T213000Z
DTEND:20260113T230000Z
END:VEVENT
END:VCALENDAR
