BEGIN:VCALENDAR
VERSION:2.0
PRODID:SchoolNow
CALSCALE:GREGORIAN
BEGIN:VEVENT
UID:3d53ab40-8e99-11f0-a639-0a58a9feac02
DTSTAMP:20260421T162511Z
SUMMARY:Cheerleading Practice & Meetings
LOCATION:Core Studio
URL;VALUE=URI:https://www.op97.org/brooks/calendar/8606473/cheerleading-pra
 ctice-meetings
DTSTART:20260120T213000Z
DTEND:20260120T230000Z
END:VEVENT
END:VCALENDAR
