BEGIN:VCALENDAR
VERSION:2.0
PRODID:SchoolNow
CALSCALE:GREGORIAN
BEGIN:VEVENT
UID:3d53c83c-8e99-11f0-abcf-0a58a9feac02
DTSTAMP:20260421T102011Z
SUMMARY:Cheerleading Practice & Meetings
LOCATION:Core Studio
URL;VALUE=URI:https://www.op97.org/brooks/calendar/8606505/cheerleading-pra
 ctice-meetings
DTSTART:20260521T203000Z
DTEND:20260521T220000Z
END:VEVENT
END:VCALENDAR
