BEGIN:VCALENDAR
VERSION:2.0
PRODID:SchoolNow
CALSCALE:GREGORIAN
BEGIN:VEVENT
UID:3dcbe4f4-8f32-11f0-89f0-02dcb6a3991b
DTSTAMP:20260421T162511Z
SUMMARY:Best Buddies Meeting
LOCATION:Commons
URL;VALUE=URI:https://www.op97.org/brooks/calendar/8609039/best-buddies-mee
 ting
DTSTART:20260114T213000Z
DTEND:20260114T223000Z
END:VEVENT
END:VCALENDAR
