BEGIN:VCALENDAR
VERSION:2.0
PRODID:SchoolNow
CALSCALE:GREGORIAN
BEGIN:VEVENT
UID:3dcbe79c-8f32-11f0-a7e1-02dcb6a3991b
DTSTAMP:20260421T162511Z
SUMMARY:Best Buddies Meeting
LOCATION:Commons
URL;VALUE=URI:https://www.op97.org/brooks/calendar/8609042/best-buddies-mee
 ting
DTSTART:20260225T213000Z
DTEND:20260225T223000Z
END:VEVENT
END:VCALENDAR
