BEGIN:VCALENDAR
VERSION:2.0
PRODID:SchoolNow
CALSCALE:GREGORIAN
BEGIN:VEVENT
UID:3dcbece2-8f32-11f0-bfa6-02dcb6a3991b
DTSTAMP:20260421T102011Z
SUMMARY:Best Buddies Meeting
LOCATION:Commons
URL;VALUE=URI:https://www.op97.org/brooks/calendar/8609048/best-buddies-mee
 ting
DTSTART:20260513T203000Z
DTEND:20260513T213000Z
END:VEVENT
END:VCALENDAR
