BEGIN:VCALENDAR
VERSION:2.0
PRODID:SchoolNow
CALSCALE:GREGORIAN
BEGIN:VEVENT
UID:3de3963a-8f32-11f0-ac91-02dcb6a3991b
DTSTAMP:20260421T162511Z
SUMMARY:Rainbow Revolution Meeting
LOCATION:Media Center
URL;VALUE=URI:https://www.op97.org/brooks/calendar/8609068/rainbow-revoluti
 on-meeting
DTSTART:20260126T213000Z
DTEND:20260126T223000Z
END:VEVENT
END:VCALENDAR
