BEGIN:VCALENDAR
VERSION:2.0
PRODID:SchoolNow
CALSCALE:GREGORIAN
BEGIN:VEVENT
UID:3de3a0e4-8f32-11f0-ab5f-02dcb6a3991b
DTSTAMP:20260421T102012Z
SUMMARY:Rainbow Revolution Meeting
LOCATION:Media Center
URL;VALUE=URI:https://www.op97.org/brooks/calendar/8609080/rainbow-revoluti
 on-meeting
DTSTART:20260420T203000Z
DTEND:20260420T213000Z
END:VEVENT
END:VCALENDAR
