BEGIN:VCALENDAR
VERSION:2.0
PRODID:SchoolNow
CALSCALE:GREGORIAN
BEGIN:VEVENT
UID:3de3a1c0-8f32-11f0-b5af-02dcb6a3991b
DTSTAMP:20260421T102012Z
SUMMARY:Rainbow Revolution Meeting
LOCATION:Media Center
URL;VALUE=URI:https://www.op97.org/brooks/calendar/8609081/rainbow-revoluti
 on-meeting
DTSTART:20260427T203000Z
DTEND:20260427T213000Z
END:VEVENT
END:VCALENDAR
