BEGIN:VCALENDAR
VERSION:2.0
PRODID:SchoolNow
CALSCALE:GREGORIAN
BEGIN:VEVENT
UID:3de3a2a6-8f32-11f0-8f03-02dcb6a3991b
DTSTAMP:20260421T102012Z
SUMMARY:Rainbow Revolution Meeting
LOCATION:Media Center
URL;VALUE=URI:https://www.op97.org/brooks/calendar/8609082/rainbow-revoluti
 on-meeting
DTSTART:20260504T203000Z
DTEND:20260504T213000Z
END:VEVENT
END:VCALENDAR
