BEGIN:VCALENDAR
VERSION:2.0
PRODID:SchoolNow
CALSCALE:GREGORIAN
BEGIN:VEVENT
UID:3de3b2f0-8f32-11f0-a9dd-02dcb6a3991b
DTSTAMP:20260421T162511Z
SUMMARY:Service Club Meeting
LOCATION:B208
URL;VALUE=URI:https://www.op97.org/brooks/calendar/8609101/service-club-mee
 ting
DTSTART:20260109T140000Z
DTEND:20260109T144500Z
END:VEVENT
END:VCALENDAR
