BEGIN:VCALENDAR
VERSION:2.0
PRODID:SchoolNow
CALSCALE:GREGORIAN
BEGIN:VEVENT
UID:3de3b818-8f32-11f0-9287-02dcb6a3991b
DTSTAMP:20260421T162511Z
SUMMARY:Service Club Meeting
LOCATION:B208
URL;VALUE=URI:https://www.op97.org/brooks/calendar/8609107/service-club-mee
 ting
DTSTART:20260220T140000Z
DTEND:20260220T144500Z
END:VEVENT
END:VCALENDAR
