BEGIN:VCALENDAR
VERSION:2.0
PRODID:SchoolNow
CALSCALE:GREGORIAN
BEGIN:VEVENT
UID:3de3be1c-8f32-11f0-944f-02dcb6a3991b
DTSTAMP:20260421T102012Z
SUMMARY:Service Club Meeting
LOCATION:B208
URL;VALUE=URI:https://www.op97.org/brooks/calendar/8609114/service-club-mee
 ting
DTSTART:20260410T130000Z
DTEND:20260410T134500Z
END:VEVENT
END:VCALENDAR
