BEGIN:VCALENDAR
VERSION:2.0
PRODID:SchoolNow
CALSCALE:GREGORIAN
BEGIN:VEVENT
UID:3de3d3ac-8f32-11f0-bd25-02dcb6a3991b
DTSTAMP:20260421T162511Z
SUMMARY:Student Council Meeting
LOCATION:B408
URL;VALUE=URI:https://www.op97.org/brooks/calendar/8609139/student-council-
 meeting
DTSTART:20260127T140000Z
DTEND:20260127T144500Z
END:VEVENT
END:VCALENDAR
