BEGIN:VCALENDAR
VERSION:2.0
PRODID:SchoolNow
CALSCALE:GREGORIAN
BEGIN:VEVENT
UID:3de3d64a-8f32-11f0-adf6-02dcb6a3991b
DTSTAMP:20260421T162511Z
SUMMARY:Student Council Meeting
LOCATION:B408
URL;VALUE=URI:https://www.op97.org/brooks/calendar/8609142/student-council-
 meeting
DTSTART:20260217T140000Z
DTEND:20260217T144500Z
END:VEVENT
END:VCALENDAR
