BEGIN:VCALENDAR
VERSION:2.0
PRODID:SchoolNow
CALSCALE:GREGORIAN
BEGIN:VEVENT
UID:3de3d8de-8f32-11f0-8197-02dcb6a3991b
DTSTAMP:20260421T102012Z
SUMMARY:Student Council Meeting
LOCATION:B408
URL;VALUE=URI:https://www.op97.org/brooks/calendar/8609145/student-council-
 meeting
DTSTART:20260310T130000Z
DTEND:20260310T134500Z
END:VEVENT
END:VCALENDAR
