BEGIN:VCALENDAR
VERSION:2.0
PRODID:SchoolNow
CALSCALE:GREGORIAN
BEGIN:VEVENT
UID:3e30167c-8f32-11f0-b71f-02dcb6a3991b
DTSTAMP:20260421T102012Z
SUMMARY:Student Council Meeting
LOCATION:B408
URL;VALUE=URI:https://www.op97.org/brooks/calendar/8609147/student-council-
 meeting
DTSTART:20260324T130000Z
DTEND:20260324T134500Z
END:VEVENT
END:VCALENDAR
