BEGIN:VCALENDAR
VERSION:2.0
PRODID:SchoolNow
CALSCALE:GREGORIAN
BEGIN:VEVENT
UID:3e3017da-8f32-11f0-bcd9-02dcb6a3991b
DTSTAMP:20260421T102012Z
SUMMARY:Student Council Meeting
LOCATION:B408
URL;VALUE=URI:https://www.op97.org/brooks/calendar/8609148/student-council-
 meeting
DTSTART:20260331T130000Z
DTEND:20260331T134500Z
END:VEVENT
END:VCALENDAR
