BEGIN:VCALENDAR
VERSION:2.0
PRODID:SchoolNow
CALSCALE:GREGORIAN
BEGIN:VEVENT
UID:3e304db8-8f32-11f0-8421-02dcb6a3991b
DTSTAMP:20260421T162511Z
SUMMARY:Morning Choir Rehearsal
LOCATION:D105
URL;VALUE=URI:https://www.op97.org/brooks/calendar/8609198/morning-choir-re
 hearsal
DTSTART:20260129T140000Z
DTEND:20260129T144500Z
END:VEVENT
END:VCALENDAR
