BEGIN:VCALENDAR
VERSION:2.0
PRODID:SchoolNow
CALSCALE:GREGORIAN
BEGIN:VEVENT
UID:3e3060e6-8f32-11f0-ac2e-02dcb6a3991b
DTSTAMP:20260421T102011Z
SUMMARY:Morning Choir Rehearsal
LOCATION:D105
URL;VALUE=URI:https://www.op97.org/brooks/calendar/8609214/morning-choir-re
 hearsal
DTSTART:20260521T130000Z
DTEND:20260521T134500Z
END:VEVENT
END:VCALENDAR
