BEGIN:VCALENDAR
VERSION:2.0
PRODID:SchoolNow
CALSCALE:GREGORIAN
BEGIN:VEVENT
UID:3e3065d2-8f32-11f0-b807-02dcb6a3991b
DTSTAMP:20260421T162511Z
SUMMARY:Morning Choir Rehearsal
LOCATION:D105
URL;VALUE=URI:https://www.op97.org/brooks/calendar/8609219/morning-choir-re
 hearsal
DTSTART:20260127T140000Z
DTEND:20260127T144500Z
END:VEVENT
END:VCALENDAR
