BEGIN:VCALENDAR
VERSION:2.0
PRODID:SchoolNow
CALSCALE:GREGORIAN
BEGIN:VEVENT
UID:3e3068b6-8f32-11f0-9c1b-02dcb6a3991b
DTSTAMP:20260421T162511Z
SUMMARY:Morning Choir Rehearsal
LOCATION:D105
URL;VALUE=URI:https://www.op97.org/brooks/calendar/8609222/morning-choir-re
 hearsal
DTSTART:20260217T140000Z
DTEND:20260217T144500Z
END:VEVENT
END:VCALENDAR
